BEGIN:VCALENDAR
VERSION:2.0
PRODID:-//ESG Innova Group - ECPv6.15.20//NONSGML v1.0//EN
CALSCALE:GREGORIAN
METHOD:PUBLISH
X-WR-CALNAME:ESG Innova Group
X-ORIGINAL-URL:https://www.esginnova.com
X-WR-CALDESC:Eventos para ESG Innova Group
REFRESH-INTERVAL;VALUE=DURATION:PT1H
X-Robots-Tag:noindex
X-PUBLISHED-TTL:PT1H
BEGIN:VTIMEZONE
TZID:UTC
BEGIN:STANDARD
TZOFFSETFROM:+0000
TZOFFSETTO:+0000
TZNAME:UTC
DTSTART:20250101T000000
END:STANDARD
END:VTIMEZONE
BEGIN:VEVENT
DTSTART;TZID=UTC:20260428T173000
DTEND;TZID=UTC:20260428T173000
DTSTAMP:20260423T200904
CREATED:20260415T153656Z
LAST-MODIFIED:20260416T090433Z
UID:110481-1777397400-1777397400@www.esginnova.com
SUMMARY:HSE NEXT 2026: Reinventando la Seguridad y Salud en el Trabajo con IA: el poder de Suiti en el Día Mundial SST 2026
DESCRIPTION:
URL:https://www.esginnova.com/eventos/hse-next-reinventando-la-seguridad-y-salud-en-el-trabajo-con-ia-el-poder-de-suiti-en-el-dia-mundial-sst-2026/
ATTACH;FMTTYPE=image/png:https://www.esginnova.com/wp-content/uploads/2026/04/Reinventando-la-Seguridad-y-Salud-en-el-Trabajo-con-IA-el-poder-de-Suiti-en-el-Dia-Mundial-SST-2026.png
END:VEVENT
BEGIN:VEVENT
DTSTART;TZID=UTC:20260430T090000
DTEND;TZID=UTC:20260430T090000
DTSTAMP:20260423T200904
CREATED:20260312T105117Z
LAST-MODIFIED:20260319T164613Z
UID:110409-1777539600-1777539600@www.esginnova.com
SUMMARY:ISO NEXT 2026: IA para descifrar las actualizaciones de ISO 14001:2026 e ISO 9001:2026
DESCRIPTION:
URL:https://www.esginnova.com/eventos/iso-next-2026-ia-para-descifrar-las-actualizaciones-de-iso-90012026-e-iso-140012026-mexico/
ATTACH;FMTTYPE=image/jpeg:https://www.esginnova.com/wp-content/uploads/2026/03/Queretaro-ISO-Next-2026.jpg
END:VEVENT
BEGIN:VEVENT
DTSTART;TZID=UTC:20260430T160000
DTEND;TZID=UTC:20260430T160000
DTSTAMP:20260423T200904
CREATED:20260313T134915Z
LAST-MODIFIED:20260313T135054Z
UID:110432-1777564800-1777564800@www.esginnova.com
SUMMARY:HSE NEXT 2026: Gestión de requisitos legales basados en Inteligencia Artificial
DESCRIPTION:
URL:https://www.esginnova.com/eventos/hse-next-2026-gestion-de-requisitos-legales-basados-en-inteligencia-artificial/
ATTACH;FMTTYPE=image/webp:https://www.esginnova.com/wp-content/uploads/2026/03/Gestion-de-requisitos-legales-basados-en-Inteligencia-Artificial.webp
END:VEVENT
BEGIN:VEVENT
DTSTART;TZID=UTC:20260507T160000
DTEND;TZID=UTC:20260507T160000
DTSTAMP:20260423T200904
CREATED:20260410T090249Z
LAST-MODIFIED:20260423T120009Z
UID:110457-1778169600-1778169600@www.esginnova.com
SUMMARY:Webinar: Cómo transformar la gestión de ciberseguridad en eficiencia operativa: NIS2\, ENS e ISO 27001
DESCRIPTION:[vc_row][vc_column width=»1/6″][/vc_column][vc_column width=»5/6″]Evento onlineCómo transformar la gestión de ciberseguridad en eficiencia operativa: NIS2\, ENS e ISO 27001[/vc_column][/vc_row][vc_row][vc_column][vc_row_inner gap=»35″][vc_column_inner width=»7/12″][vc_column_text css=»» font_family=»Lato» font_weight=»400″ color=»#666666″ el_class=»textojustificado»]\n\n¿Está tu organización preparada para cumplir con NIS2\, ENS e ISO 27001… sin colapsar en el intento? \nLa presión normativa no deja de crecer. Más requisitos\, más controles\, más auditorías… y cada vez menos margen de error. \nMientras tanto\, muchas organizaciones siguen gestionando la ciberseguridad con herramientas desconectadas\, procesos manuales y una visibilidad limitada\, lo que convierte el cumplimiento en un proceso lento\, complejo y difícil de sostener. \nEntonces\, la pregunta no es si cumplir. Es cómo hacerlo sin que la operativa se vuelva insostenible. \nEn este evento descubrirás cómo transformar la gestión de la ciberseguridad en un sistema ágil\, conectado y orientado a resultados\, donde la inteligencia artificial y la digitalización permiten simplificar lo complejo\, automatizar lo repetitivo y recuperar el control sobre riesgos\, controles y evidencias. \nA través de un enfoque práctico\, verás cómo alinear NIS2\, ENS e ISO 27001 en un único sistema de gestión\, eliminando silos\, reduciendo cargas operativas y ganando eficiencia real. \nY lo más importante: cómo hacerlo sin fricción. Sin rehacerlo todo. \nCon ISOTools\, descubrirás una forma más inteligente de gestionar la ciberseguridad. \n\n[/vc_column_text][/vc_column_inner][vc_column_inner width=»5/12″][vc_column_text css_animation=»none» css=».vc_custom_1717492719747{background-color: #bababa !important;}» font_family=»Open Sans Condensed»]\nInscríbete aquí\n[/vc_column_text][vc_raw_html css=»» el_id=»form-evento»]JTNDc2NyaXB0JTIwY2hhcnNldCUzRCUyMnV0Zi04JTIyJTIwdHlwZSUzRCUyMnRleHQlMkZqYXZhc2NyaXB0JTIyJTIwc3JjJTNEJTIyJTJGJTJGanMuaHNmb3Jtcy5uZXQlMkZmb3JtcyUyRmVtYmVkJTJGdjIuanMlMjIlM0UlM0MlMkZzY3JpcHQlM0UlMEElM0NzY3JpcHQlM0UlMEElMjAlMjBoYnNwdC5mb3Jtcy5jcmVhdGUlMjglN0IlMEElMjAlMjAlMjAlMjBwb3J0YWxJZCUzQSUyMCUyMjQ1OTExNyUyMiUyQyUwQSUyMCUyMCUyMCUyMGZvcm1JZCUzQSUyMCUyMjlhNWM3ODA5LWFhMWItNGVjNy1iYmQwLTM4MGQ0ODczMWYxNiUyMiUyQyUwQSUyMCUyMCUyMCUyMHJlZ2lvbiUzQSUyMCUyMm5hMSUyMiUwQSUyMCUyMCU3RCUyOSUzQiUwQSUzQyUyRnNjcmlwdCUzRQ==[/vc_raw_html][/vc_column_inner][/vc_row_inner][/vc_column][/vc_row][vc_row full_width=»stretch_row_content_no_spaces» gap=»35″ el_class=»backverde» css=».vc_custom_1717077039330{margin-top: 50px !important;margin-bottom: 50px !important;}»][vc_column el_class=»titular-seccion»][vc_custom_heading text=»Consigue tu certificado de asistencia gratis después del evento» font_container=»tag:span|font_size:40|text_align:center|color:%23ffffff|line_height:1.2″ google_fonts=»font_family:Open%20Sans%20Condensed%3A300%2C300italic%2C700|font_style:700%20bold%20regular%3A700%3Anormal»][/vc_column][/vc_row][vc_row gap=»35″][vc_column width=»1/2″]Objetivo[vc_column_text css=»» font_family=»Lato» color=»#666666″]\n\nDescubrir cómo abordar de forma eficiente los nuevos requisitos de NIS2\, ENS e ISO 27001\, transformando la gestión de la ciberseguridad en un sistema integrado\, ágil y sostenible\, apoyado en la inteligencia artificial y la digitalización para reducir la carga operativa\, mejorar el control y asegurar el cumplimiento continuo sin fricciones.\n\n[/vc_column_text][/vc_column][vc_column width=»1/2″]Beneficios[vc_column_text css=»» font_family=»Lato» color=»#666666″]\n\nEntender cómo gestionar NIS2\, ENS e ISO 27001 sin duplicidades ni sobrecarga operativa.\nIdentificar por qué la gestión actual de la ciberseguridad se vuelve compleja y difícil de mantener.\nReducir el tiempo invertido en tareas manuales\, recopilación de evidencias y preparación de auditorías.\nMejorar la visibilidad y el control sobre riesgos\, controles y cumplimiento en tiempo real.\nAnticiparse a auditorías cada vez más exigentes con un sistema preparado.\nAplicar la IA para automatizar procesos\, detectar desviaciones y tomar decisiones con mayor rapidez y precisión.\nCentralizar toda la gestión en un único entorno digital.\nMantener la trazabilidad completa sin esfuerzo.\nAsegurar el cumplimiento continuo sin depender de tareas manuales.\n\n[/vc_column_text][/vc_column][/vc_row][vc_row full_width=»stretch_row» gap=»35″][vc_column el_class=»titular-seccion»][/vc_column][/vc_row][vc_row gap=»35″ css=».vc_custom_1716458590860{margin-bottom: 30px !important;}»][vc_column width=»3/4″]Dirigido a[vc_column_text css=».vc_custom_1775803207582{margin-bottom: 30px !important;}» font_family=»Lato» color=»#666666″]\n\nEste evento está dirigido a responsables de ciberseguridad y seguridad de la información\, así como a CISO\, directores de IT y responsables tecnológicos que necesiten afrontar los nuevos requisitos regulatorios con mayor eficiencia y control.\nTambién está orientado a responsables de cumplimiento normativo\, gestión de riesgos y sistemas de gestión (ISO 27001\, ENS\, compliance)\, así como a consultores y auditores en seguridad de la información que buscan optimizar sus procesos y reducir la complejidad operativa.\nAdemás\, es especialmente relevante para organizaciones afectadas por NIS2\, ENS o certificadas en ISO 27001\, y para profesionales que quieran simplificar la gestión de la ciberseguridad mediante automatización e inteligencia artificial.\n\n[/vc_column_text][/vc_column][vc_column width=»1/4″ css=».vc_custom_1715862675866{padding-top: 20px !important;padding-right: 20px !important;padding-bottom: 20px !important;padding-left: 20px !important;background-color: #f2f2f2 !important;}»]Evento online\n\nJueves 7 de mayo\, 2026\n\n\n\n16:00h (Madrid\, España)\n\n\n\nCertificado de asistencia gratis\n\n[/vc_column][/vc_row][vc_row][vc_column width=»3/4″]INSCRÍBETE AQUÍ [/vc_column][vc_column width=»1/4″]Empresas organizadoras[vc_row_inner][vc_column_inner width=»1/2″][vc_single_image image=»105148″ alignment=»center» css=».vc_custom_1717077713870{margin-bottom: 30px !important;}» img_hover=»grayscale»][/vc_column_inner][vc_column_inner width=»1/2″][vc_single_image image=»104994″ alignment=»center» css=».vc_custom_1768235532360{margin-bottom: 30px !important;}» img_hover=»grayscale»][/vc_column_inner][/vc_row_inner][/vc_column][/vc_row][vc_row][vc_column][vc_empty_space height=»50px»][/vc_column][/vc_row][vc_section full_width=»stretch_row» wpex_fixed_bg=»fixed-top» el_id=»bloque-eventos-webinar» css=».vc_custom_1717491935948{margin-bottom: 50px !important;padding-top: 80px !important;padding-bottom: 100px !important;background-image: url(https://www.esginnova.com/wp-content/uploads/2024/05/ESG_Programa.jpg?id=105160) !important;background-position: center !important;background-repeat: no-repeat !important;background-size: cover !important;}» wpex_bg_position=»top center»][vc_row gap=»25″][vc_column width=»1/6″][/vc_column][vc_column width=»2/3″ css=».vc_custom_1715934289389{padding-top: 50px !important;padding-right: 60px !important;padding-bottom: 50px !important;padding-left: 60px !important;background-color: rgba(255\,255\,255\,0.9) !important;*background-color: rgb(255\,255\,255) !important;}»]Programación[vc_separator color=»custom» style=»dotted» css=».vc_custom_1715786995976{margin-bottom: 30px !important;}» accent_color=»#adadad» el_class=»separador-bloque-programa»][vc_column_text css_animation=»none» font_size=»20″ font_family=»Open Sans Condensed» line_height=»1.2″]\n16:00–16:10\n\n▶ Presentación del webinar\n\n[/vc_column_text][vc_row_inner content_placement=»middle» gap=»1″][vc_column_inner width=»2/12″][vc_single_image image=»108112″ css=»» el_class=»ancho120″][/vc_column_inner][vc_column_inner width=»10/12″]Ana PiñarConsultora Experta de ESG Innova \n[/vc_column_inner][/vc_row_inner][vc_separator color=»custom» style=»dotted» css=».vc_custom_1699963013960{margin-top: 30px !important;margin-bottom: 30px !important;}» accent_color=»#adadad» el_class=»separador-bloque-programa»][vc_column_text css_animation=»none» css=»» font_family=»Open Sans Condensed» font_size=»20″ line_height=»1.2″]\n16:10–16:40\n\n⇨  Cómo transformar la gestión de ciberseguridad en eficiencia operativa: NIS2\, ENS e ISO 27001\n\n[/vc_column_text][vc_row_inner content_placement=»middle» gap=»1″][vc_column_inner width=»2/12″][vc_single_image image=»105372″ css=»» el_class=»ancho120″][/vc_column_inner][vc_column_inner width=»10/12″]Ruben CárdenasDirector I+D+i de ESG Innova \n[/vc_column_inner][/vc_row_inner][vc_separator color=»custom» style=»dotted» css=».vc_custom_1699963017040{margin-top: 30px !important;margin-bottom: 30px !important;}» accent_color=»#adadad» el_class=»separador-bloque-programa»][vc_column_text css_animation=»none» css=»» font_family=»Open Sans Condensed» line_height=»1.2″ font_size=»20″]\n16:40–17:00\n\n⇨  De la complejidad al control — gestión de NIS2\, ENS e ISO 27001 en un solo sistema\n\n[/vc_column_text][vc_row_inner content_placement=»middle» gap=»1″][vc_column_inner width=»2/12″][vc_single_image image=»105629″ css=»» el_class=»ancho120″][/vc_column_inner][vc_column_inner width=»10/12″]Julio César ArdilaConsultor Experto de ESG Innova \n[/vc_column_inner][/vc_row_inner][vc_separator color=»custom» style=»dotted» css=».vc_custom_1699963017040{margin-top: 30px !important;margin-bottom: 30px !important;}» accent_color=»#adadad» el_class=»separador-bloque-programa»][vc_column_text font_family=»Open Sans Condensed» font_size=»20″ line_height=»1.2″ font_weight=»900″]\n17:00\n\n♣ Turno de preguntas | ⌦ Cierre\n\n[/vc_column_text]INSCRÍBETE AQUÍ [/vc_column][vc_column width=»1/6″][/vc_column][/vc_row][/vc_section][vc_section content_placement=»middle» css=».vc_custom_1715609749464{margin-top: 50px !important;margin-bottom: 100px !important;}»][vc_row full_width=»stretch_row_content_no_spaces»][vc_column][vc_separator color=»custom» style=»dotted» border_width=»3″ css=».vc_custom_1716460005664{margin-bottom: 30px !important;}» accent_color=»#dddddd»][vc_column_text css=».vc_custom_1717492352523{margin-bottom: 30px !important;}»]\nRedes\n¡Síguenos para estar al corriente de novedades!\n[/vc_column_text]InstagramYoutubeLinkedin[vc_separator color=»custom» style=»dotted» border_width=»3″ css=».vc_custom_1716460005664{margin-bottom: 30px !important;}» accent_color=»#dddddd»][/vc_column][/vc_row][/vc_section]
URL:https://www.esginnova.com/eventos/ciberseguridad-eficiencia-operativa-nis2-ens-iso-27001/
ATTACH;FMTTYPE=image/png:https://www.esginnova.com/wp-content/uploads/2026/04/Ciberseguridad-NIS2-ENS-e-ISO-27001.png
END:VEVENT
BEGIN:VEVENT
DTSTART;TZID=UTC:20260514T160000
DTEND;TZID=UTC:20260514T160000
DTSTAMP:20260423T200904
CREATED:20260413T144909Z
LAST-MODIFIED:20260413T144909Z
UID:110466-1778774400-1778774400@www.esginnova.com
SUMMARY:GRC NEXT 2026: Tecnologías avanzadas para la Gestión de Riesgos Corporativos
DESCRIPTION:
URL:https://www.esginnova.com/eventos/grc-next-2026-tecnologias-avanzadas-para-la-gestion-de-riesgos-corporativos/
ATTACH;FMTTYPE=image/webp:https://www.esginnova.com/wp-content/uploads/2026/04/Tecnologias-avanzadas-para-la-Gestion-de-Riesgos-Corporativos-.webp
END:VEVENT
BEGIN:VEVENT
DTSTART;TZID=UTC:20260518T183000
DTEND;TZID=UTC:20260518T183000
DTSTAMP:20260423T200904
CREATED:20260422T121949Z
LAST-MODIFIED:20260423T134806Z
UID:110487-1779129000-1779129000@www.esginnova.com
SUMMARY:Webinar: De GAMP5 a ESG: control total en la industria pharma y su cadena logística
DESCRIPTION:[vc_row][vc_column width=»1/6″][/vc_column][vc_column width=»5/6″]Evento onlineDe GAMP5 a ESG: control total en la industria pharma y su cadena logística[/vc_column][/vc_row][vc_row][vc_column][vc_row_inner gap=»35″][vc_column_inner width=»7/12″][vc_column_text css=»» font_family=»Lato» font_weight=»400″ color=»#666666″ el_class=»textojustificado»]\n\n¿Tienes visibilidad real sobre lo que ocurre en tu sistema GxP y en toda tu cadena logística? \nLa industria farmacéutica opera bajo uno de los entornos más exigentes del mundo: GAMP5\, validaciones\, trazabilidad\, integridad de datos\, auditorías constantes… y una cadena logística cada vez más compleja y crítica. \nEl problema no es solo cumplir. Es mantener el control sin que la operativa se vuelva ineficiente. \nProcesos desconectados\, información dispersa\, validaciones difíciles de mantener y una presión creciente por integrar nuevos enfoques como ESG\, sostenibilidad y transparencia en toda la organización. \nEntonces\, la pregunta es clara: ¿cómo pasar de gestionar requisitos a tener control real? \nEn este evento descubrirás cómo evolucionar desde un enfoque tradicional basado en GAMP5 hacia un modelo más amplio\, integrado y eficiente\, donde la digitalización y la inteligencia artificial permiten conectar sistemas\, automatizar controles y garantizar la trazabilidad en toda la cadena de valor. \nA través de un enfoque práctico\, verás cómo lograr control total sobre procesos\, datos y cumplimiento\, desde la operación interna hasta la cadena logística\, sin añadir complejidad innecesaria. \nCon ESG Innova\, entenderás cómo dar el siguiente paso. \n\n[/vc_column_text][/vc_column_inner][vc_column_inner width=»5/12″][vc_column_text css_animation=»none» css=».vc_custom_1717492719747{background-color: #bababa !important;}» font_family=»Open Sans Condensed»]\nInscríbete aquí\n[/vc_column_text][vc_raw_html css=»» el_id=»form-evento»]JTNDc2NyaXB0JTIwY2hhcnNldCUzRCUyMnV0Zi04JTIyJTIwdHlwZSUzRCUyMnRleHQlMkZqYXZhc2NyaXB0JTIyJTIwc3JjJTNEJTIyJTJGJTJGanMuaHNmb3Jtcy5uZXQlMkZmb3JtcyUyRmVtYmVkJTJGdjIuanMlMjIlM0UlM0MlMkZzY3JpcHQlM0UlMEElM0NzY3JpcHQlM0UlMEElMjAlMjBoYnNwdC5mb3Jtcy5jcmVhdGUlMjglN0IlMEElMjAlMjAlMjAlMjBwb3J0YWxJZCUzQSUyMCUyMjQ1OTExNyUyMiUyQyUwQSUyMCUyMCUyMCUyMGZvcm1JZCUzQSUyMCUyMjIxZjk1MjdiLWI0MDUtNDU1Mi04MTk3LWNjZjRiZjFiNzM2ZCUyMiUyQyUwQSUyMCUyMCUyMCUyMHJlZ2lvbiUzQSUyMCUyMm5hMSUyMiUwQSUyMCUyMCU3RCUyOSUzQiUwQSUzQyUyRnNjcmlwdCUzRQ==[/vc_raw_html][/vc_column_inner][/vc_row_inner][/vc_column][/vc_row][vc_row full_width=»stretch_row_content_no_spaces» gap=»35″ el_class=»backverde» css=».vc_custom_1717077039330{margin-top: 50px !important;margin-bottom: 50px !important;}»][vc_column el_class=»titular-seccion»][vc_custom_heading text=»Consigue tu certificado de asistencia gratis después del evento» font_container=»tag:span|font_size:40|text_align:center|color:%23ffffff|line_height:1.2″ google_fonts=»font_family:Open%20Sans%20Condensed%3A300%2C300italic%2C700|font_style:700%20bold%20regular%3A700%3Anormal»][/vc_column][/vc_row][vc_row gap=»35″][vc_column width=»1/2″]Objetivo[vc_column_text css=»» font_family=»Lato» color=»#666666″]\n\nExplorar cómo evolucionar desde la gestión basada en GAMP5 hacia un enfoque integrado que incorpore criterios ESG\, permitiendo a las organizaciones del sector pharma lograr mayor control\, trazabilidad y eficiencia operativa\, apoyándose en la inteligencia artificial y la digitalización para optimizar procesos\, garantizar el cumplimiento y mejorar la toma de decisiones en toda la cadena logística.\n\n[/vc_column_text][/vc_column][vc_column width=»1/2″]Beneficios[vc_column_text css=»» font_family=»Lato» color=»#666666″]\n\nEntender cómo conectar GAMP5 con los nuevos enfoques ESG en un entorno regulado.\nIdentificar los principales puntos de pérdida de control en procesos y cadena logística.\nMejorar la gestión de la trazabilidad e integridad de datos en entornos GxP.\nReducir la complejidad en la validación y mantenimiento de sistemas.\nAnticiparse a auditorías y requerimientos regulatorios cada vez más exigentes.\nAplicar la IA para automatizar controles\, detectar desviaciones y mejorar la toma de decisiones.\nCentralizar la gestión de procesos\, datos y cumplimiento en un único entorno digital.\nAsegurar el control continuo en toda la cadena de valor\, desde planta hasta distribución.\n\n[/vc_column_text][/vc_column][/vc_row][vc_row full_width=»stretch_row» gap=»35″][vc_column el_class=»titular-seccion»][/vc_column][/vc_row][vc_row gap=»35″ css=».vc_custom_1716458590860{margin-bottom: 30px !important;}»][vc_column width=»3/4″]Dirigido a[vc_column_text css=».vc_custom_1776860898005{margin-bottom: 30px !important;}» font_family=»Lato» color=»#666666″]\n\nEste evento está dirigido a responsables de calidad\, validación y sistemas en la industria farmacéutica\, así como a profesionales vinculados a entornos GxP\, GAMP5 y cumplimiento regulatorio que buscan mejorar el control y la eficiencia en sus operaciones. También está orientado a responsables de operaciones\, supply chain y logística que necesiten garantizar la trazabilidad\, integridad de datos y cumplimiento a lo largo de toda la cadena. Además\, es especialmente relevante para organizaciones que quieran avanzar hacia modelos más integrados incorporando criterios ESG\, y para profesionales interesados en optimizar la gestión mediante digitalización e inteligencia artificial.\n\n[/vc_column_text][/vc_column][vc_column width=»1/4″ css=».vc_custom_1715862675866{padding-top: 20px !important;padding-right: 20px !important;padding-bottom: 20px !important;padding-left: 20px !important;background-color: #f2f2f2 !important;}»]Evento online\n\nLunes 18 de mayo\, 2026\n\n\n\n18:30h (Madrid\, España)\n\n\n\nCertificado de asistencia gratis\n\n[/vc_column][/vc_row][vc_row][vc_column width=»3/4″]INSCRÍBETE AQUÍ [/vc_column][vc_column width=»1/4″]Empresas organizadoras[vc_row_inner][vc_column_inner][vc_single_image image=»105148″ alignment=»center» css=».vc_custom_1717077713870{margin-bottom: 30px !important;}» img_hover=»grayscale»][/vc_column_inner][/vc_row_inner][/vc_column][/vc_row][vc_row][vc_column][vc_empty_space height=»50px»][/vc_column][/vc_row][vc_section full_width=»stretch_row» wpex_fixed_bg=»fixed-top» el_id=»bloque-eventos-webinar» css=».vc_custom_1717491935948{margin-bottom: 50px !important;padding-top: 80px !important;padding-bottom: 100px !important;background-image: url(https://www.esginnova.com/wp-content/uploads/2024/05/ESG_Programa.jpg?id=105160) !important;background-position: center !important;background-repeat: no-repeat !important;background-size: cover !important;}» wpex_bg_position=»top center»][vc_row gap=»25″][vc_column width=»1/6″][/vc_column][vc_column width=»2/3″ css=».vc_custom_1715934289389{padding-top: 50px !important;padding-right: 60px !important;padding-bottom: 50px !important;padding-left: 60px !important;background-color: rgba(255\,255\,255\,0.9) !important;*background-color: rgb(255\,255\,255) !important;}»]Programación[vc_separator color=»custom» style=»dotted» css=».vc_custom_1715786995976{margin-bottom: 30px !important;}» accent_color=»#adadad» el_class=»separador-bloque-programa»][vc_column_text css_animation=»none» css=»» font_size=»20″ font_family=»Open Sans Condensed» line_height=»1.2″]\n18:30–18:40\n\n▶ Presentación del webinar\n\n[/vc_column_text][vc_row_inner content_placement=»middle» gap=»1″][vc_column_inner width=»2/12″][vc_single_image image=»106170″ css=»» el_class=»ancho120″][/vc_column_inner][vc_column_inner width=»10/12″]Gustavo GarcíaResponsable Comercial de ESG Innova \n[/vc_column_inner][/vc_row_inner][vc_separator color=»custom» style=»dotted» css=».vc_custom_1699963013960{margin-top: 30px !important;margin-bottom: 30px !important;}» accent_color=»#adadad» el_class=»separador-bloque-programa»][vc_column_text css_animation=»none» css=»» font_family=»Open Sans Condensed» font_size=»20″ line_height=»1.2″]\n18:40–19:10\n\n⇨  De GAMP5 a ESG: control total en la industria pharma y su cadena logística\n\n[/vc_column_text][vc_row_inner content_placement=»middle» gap=»1″][vc_column_inner width=»2/12″][vc_single_image image=»106141″ css=»» el_class=»ancho120″][/vc_column_inner][vc_column_inner width=»10/12″]Rubén CabralGerente de sistemas de Gestión integrados en Loginter \n \n[/vc_column_inner][/vc_row_inner][vc_separator color=»custom» style=»dotted» css=».vc_custom_1699963017040{margin-top: 30px !important;margin-bottom: 30px !important;}» accent_color=»#adadad» el_class=»separador-bloque-programa»][vc_column_text css_animation=»none» css=»» font_family=»Open Sans Condensed» line_height=»1.2″ font_size=»20″]\n19:10–19:40\n\n⇨  Cómo conectar GAMP5\, ESG y la cadena logística en un único sistema \n\n[/vc_column_text][vc_row_inner content_placement=»middle» gap=»1″][vc_column_inner width=»2/12″][vc_single_image image=»105141″ css=»» el_class=»ancho120″][/vc_column_inner][vc_column_inner width=»10/12″]Lezly SantanaProduct Owner en ESG Innova \n[/vc_column_inner][/vc_row_inner][vc_empty_space height=»40px»][vc_row_inner content_placement=»middle» gap=»1″][vc_column_inner width=»2/12″][vc_single_image image=»105372″ css=»» el_class=»ancho120″][/vc_column_inner][vc_column_inner width=»10/12″]Ruben CárdenasDirector I+D+i de ESG Innova \n[/vc_column_inner][/vc_row_inner][vc_separator color=»custom» style=»dotted» css=».vc_custom_1699963017040{margin-top: 30px !important;margin-bottom: 30px !important;}» accent_color=»#adadad» el_class=»separador-bloque-programa»][vc_column_text css=»» font_family=»Open Sans Condensed» font_size=»20″ line_height=»1.2″ font_weight=»900″]\n19:40\n\n♣ Turno de preguntas | ⌦ Cierre\n\n[/vc_column_text]INSCRÍBETE AQUÍ [/vc_column][vc_column width=»1/6″][/vc_column][/vc_row][/vc_section][vc_section content_placement=»middle» css=».vc_custom_1715609749464{margin-top: 50px !important;margin-bottom: 100px !important;}»][vc_row full_width=»stretch_row_content_no_spaces»][vc_column][vc_separator color=»custom» style=»dotted» border_width=»3″ css=».vc_custom_1716460005664{margin-bottom: 30px !important;}» accent_color=»#dddddd»][vc_column_text css=».vc_custom_1717492352523{margin-bottom: 30px !important;}»]\nRedes\n¡Síguenos para estar al corriente de novedades!\n[/vc_column_text]InstagramYoutubeLinkedin[vc_separator color=»custom» style=»dotted» border_width=»3″ css=».vc_custom_1716460005664{margin-bottom: 30px !important;}» accent_color=»#dddddd»][/vc_column][/vc_row][/vc_section]
URL:https://www.esginnova.com/eventos/gamp5-esg-control-pharma/
ATTACH;FMTTYPE=image/png:https://www.esginnova.com/wp-content/uploads/2026/04/De-GAMP5-a-ESG.png
END:VEVENT
BEGIN:VEVENT
DTSTART;TZID=UTC:20260521T160000
DTEND;TZID=UTC:20260521T160000
DTSTAMP:20260423T200904
CREATED:20260413T145148Z
LAST-MODIFIED:20260413T145148Z
UID:110469-1779379200-1779379200@www.esginnova.com
SUMMARY:GRC NEXT 2026: Mejores prácticas para la gestión de auditoría de control interno
DESCRIPTION:
URL:https://www.esginnova.com/eventos/grc-next-2026-mejores-practicas-para-la-gestion-de-auditoria-de-control-interno/
ATTACH;FMTTYPE=image/webp:https://www.esginnova.com/wp-content/uploads/2026/04/Mejores-practicas-para-la-gestion-de-auditoria-de-control-interno.webp
END:VEVENT
BEGIN:VEVENT
DTSTART;TZID=UTC:20260528T160000
DTEND;TZID=UTC:20260528T160000
DTSTAMP:20260423T200904
CREATED:20260413T145402Z
LAST-MODIFIED:20260413T145402Z
UID:110472-1779984000-1779984000@www.esginnova.com
SUMMARY:GRC NEXT 2026: Estrategias de Cumplimiento Legal y Prevención de Soborno
DESCRIPTION:
URL:https://www.esginnova.com/eventos/grc-next-2026-estrategias-de-cumplimiento-legal-y-prevencion-de-soborno/
ATTACH;FMTTYPE=image/webp:https://www.esginnova.com/wp-content/uploads/2026/04/Estrategias-de-Cumplimiento-Legal-y-Prevencion-de-Soborno.webp
END:VEVENT
BEGIN:VEVENT
DTSTART;TZID=UTC:20260604T160000
DTEND;TZID=UTC:20260604T160000
DTSTAMP:20260423T200904
CREATED:20260413T145806Z
LAST-MODIFIED:20260413T150006Z
UID:110476-1780588800-1780588800@www.esginnova.com
SUMMARY:GRC NEXT 2026: Ciberseguridad y Ciberresiliencia: Protección Integral de la Empresa Digital
DESCRIPTION:
URL:https://www.esginnova.com/eventos/grc-next-2026-ciberseguridad-y-ciberresiliencia-proteccion-integral-de-la-empresa-digital/
ATTACH;FMTTYPE=image/webp:https://www.esginnova.com/wp-content/uploads/2026/04/Ciberseguridad-y-Ciberresiliencia-Proteccion-Integral-de-la-Empresa-Digital.webp
END:VEVENT
END:VCALENDAR